BEGIN:VCALENDAR
VERSION:2.0
PRODID:-//International Trombone Association - ECPv6.15.17.1//NONSGML v1.0//EN
CALSCALE:GREGORIAN
METHOD:PUBLISH
X-ORIGINAL-URL:https://trombone.net
X-WR-CALDESC:Events for International Trombone Association
REFRESH-INTERVAL;VALUE=DURATION:PT1H
X-Robots-Tag:noindex
X-PUBLISHED-TTL:PT1H
BEGIN:VTIMEZONE
TZID:America/New_York
BEGIN:DAYLIGHT
TZOFFSETFROM:-0500
TZOFFSETTO:-0400
TZNAME:EDT
DTSTART:20240310T070000
END:DAYLIGHT
BEGIN:STANDARD
TZOFFSETFROM:-0400
TZOFFSETTO:-0500
TZNAME:EST
DTSTART:20241103T060000
END:STANDARD
BEGIN:DAYLIGHT
TZOFFSETFROM:-0500
TZOFFSETTO:-0400
TZNAME:EDT
DTSTART:20250309T070000
END:DAYLIGHT
BEGIN:STANDARD
TZOFFSETFROM:-0400
TZOFFSETTO:-0500
TZNAME:EST
DTSTART:20251102T060000
END:STANDARD
BEGIN:DAYLIGHT
TZOFFSETFROM:-0500
TZOFFSETTO:-0400
TZNAME:EDT
DTSTART:20260308T070000
END:DAYLIGHT
BEGIN:STANDARD
TZOFFSETFROM:-0400
TZOFFSETTO:-0500
TZNAME:EST
DTSTART:20261101T060000
END:STANDARD
END:VTIMEZONE
BEGIN:VEVENT
DTSTART;TZID=America/New_York:20250605T090000
DTEND;TZID=America/New_York:20250703T160000
DTSTAMP:20260423T043932
CREATED:20250609T140808Z
LAST-MODIFIED:20250609T140809Z
UID:18691-1749114000-1751558400@trombone.net
SUMMARY:Capital Region Summer Trombone Institute
DESCRIPTION:A four-day intensive seminar held at the Schenectady County Community College School of Music\, for middle school and high school students ages 11-18\, dedicated to the study of the trombone\, with an emphasis on performance and pedagogy. Led by and featuring premiere freelance musicians and educators in the area\, the Capital Region Summer Trombone Institute will provide students with an educational laboratory to learn\, play\, and listen. All low brass instruments are welcome!
URL:https://trombone.net/event/capital-region-summer-trombone-institute/
LOCATION:SUNY Schenectady County Community College School of Music\, 78 Washington Avenue\, Schenectady\, NY\, New York\, 12305\, United States
CATEGORIES:Camps, Institutes, and Workshops
ATTACH;FMTTYPE=image/jpeg:https://trombone.net/wp-content/uploads/2025/06/Trombone-Camp-2024.jpg
END:VEVENT
END:VCALENDAR