BEGIN:VCALENDAR
VERSION:2.0
PRODID:-//International Trombone Association - ECPv6.15.17.1//NONSGML v1.0//EN
CALSCALE:GREGORIAN
METHOD:PUBLISH
X-WR-CALNAME:International Trombone Association
X-ORIGINAL-URL:https://trombone.net
X-WR-CALDESC:Events for International Trombone Association
REFRESH-INTERVAL;VALUE=DURATION:PT1H
X-Robots-Tag:noindex
X-PUBLISHED-TTL:PT1H
BEGIN:VTIMEZONE
TZID:America/New_York
BEGIN:DAYLIGHT
TZOFFSETFROM:-0500
TZOFFSETTO:-0400
TZNAME:EDT
DTSTART:20250309T070000
END:DAYLIGHT
BEGIN:STANDARD
TZOFFSETFROM:-0400
TZOFFSETTO:-0500
TZNAME:EST
DTSTART:20251102T060000
END:STANDARD
BEGIN:DAYLIGHT
TZOFFSETFROM:-0500
TZOFFSETTO:-0400
TZNAME:EDT
DTSTART:20260308T070000
END:DAYLIGHT
BEGIN:STANDARD
TZOFFSETFROM:-0400
TZOFFSETTO:-0500
TZNAME:EST
DTSTART:20261101T060000
END:STANDARD
BEGIN:DAYLIGHT
TZOFFSETFROM:-0500
TZOFFSETTO:-0400
TZNAME:EDT
DTSTART:20270314T070000
END:DAYLIGHT
BEGIN:STANDARD
TZOFFSETFROM:-0400
TZOFFSETTO:-0500
TZNAME:EST
DTSTART:20271107T060000
END:STANDARD
END:VTIMEZONE
BEGIN:VEVENT
DTSTART;TZID=America/New_York:20260208T100000
DTEND;TZID=America/New_York:20260208T183000
DTSTAMP:20260422T150607
CREATED:20260129T134930Z
LAST-MODIFIED:20260129T134930Z
UID:19764-1770544800-1770575400@trombone.net
SUMMARY:Bowling Green State University Trombone Day
DESCRIPTION:BGSU Trombone Day will be held February 8th\, 2026 featuring the Inter-Service Trombone Quartet\, members of the premiere United States military bands. In addition to these guest artists\, special guests Lake Effect Trombone Choir will also be performing. The event will include fundamental sessions\, recitals\, masterclasses\, mass trombone choir rehearsal and performances\, exhibitors\, and more! Lunch is provided with registration. Email Dr. Jeremy Marks\, Assistant Professor of Trombone with any questions: jamarks@bgsu.edu. \n\n\n\nPlease note that registration will only be available online. Registration closes Wednesday\, February 4\, 2026. The $20 registration fee includes access to all activities for the day. Lunch will be provided.
URL:https://trombone.net/event/bowling-green-state-university-trombone-day/
LOCATION:Moore Musical Arts Center\, Moore Musical Arts Center\, 1031\, 420 Willard Dr\, Bowling Green\, Ohio\, 43403\, United States
ATTACH;FMTTYPE=image/jpeg:https://trombone.net/wp-content/uploads/2026/01/BGSU.jpg
END:VEVENT
END:VCALENDAR