BEGIN:VCALENDAR
VERSION:2.0
PRODID:-//International Trombone Association - ECPv6.15.17.1//NONSGML v1.0//EN
CALSCALE:GREGORIAN
METHOD:PUBLISH
X-WR-CALNAME:International Trombone Association
X-ORIGINAL-URL:https://trombone.net
X-WR-CALDESC:Events for International Trombone Association
REFRESH-INTERVAL;VALUE=DURATION:PT1H
X-Robots-Tag:noindex
X-PUBLISHED-TTL:PT1H
BEGIN:VTIMEZONE
TZID:America/New_York
BEGIN:DAYLIGHT
TZOFFSETFROM:-0500
TZOFFSETTO:-0400
TZNAME:EDT
DTSTART:20250309T070000
END:DAYLIGHT
BEGIN:STANDARD
TZOFFSETFROM:-0400
TZOFFSETTO:-0500
TZNAME:EST
DTSTART:20251102T060000
END:STANDARD
BEGIN:DAYLIGHT
TZOFFSETFROM:-0500
TZOFFSETTO:-0400
TZNAME:EDT
DTSTART:20260308T070000
END:DAYLIGHT
BEGIN:STANDARD
TZOFFSETFROM:-0400
TZOFFSETTO:-0500
TZNAME:EST
DTSTART:20261101T060000
END:STANDARD
BEGIN:DAYLIGHT
TZOFFSETFROM:-0500
TZOFFSETTO:-0400
TZNAME:EDT
DTSTART:20270314T070000
END:DAYLIGHT
BEGIN:STANDARD
TZOFFSETFROM:-0400
TZOFFSETTO:-0500
TZNAME:EST
DTSTART:20271107T060000
END:STANDARD
END:VTIMEZONE
BEGIN:VEVENT
DTSTART;TZID=America/New_York:20260421T193000
DTEND;TZID=America/New_York:20260421T210000
DTSTAMP:20260421T015645
CREATED:20260323T152219Z
LAST-MODIFIED:20260420T123902Z
UID:20198-1776799800-1776805200@trombone.net
SUMMARY:University of Miami Frost Trombone Choir
DESCRIPTION:Students from Professor Tim Conner’s Frost Trombone Studio gather to present music composed or arranged for 16 trombones.  \n\n\n\nFree event. Livestream available.
URL:https://trombone.net/event/frost-trombone-choir/
ATTACH;FMTTYPE=image/jpeg:https://trombone.net/wp-content/uploads/2026/03/Frost-Trombone-Choir.jpg
END:VEVENT
BEGIN:VEVENT
DTSTART;TZID=America/New_York:20260421T193000
DTEND;TZID=America/New_York:20260421T210000
DTSTAMP:20260421T015645
CREATED:20260401T163730Z
LAST-MODIFIED:20260401T163731Z
UID:20274-1776799800-1776805200@trombone.net
SUMMARY:University of Wisconsin-Stevens Point Trombone Quartet Recital
DESCRIPTION:
URL:https://trombone.net/event/university-of-wisconsin-stevens-point-trombone-quartet-recital/
ATTACH;FMTTYPE=image/png:https://trombone.net/wp-content/uploads/2026/04/UWSP-Music.png
END:VEVENT
BEGIN:VEVENT
DTSTART;TZID=America/New_York:20260421T193000
DTEND;TZID=America/New_York:20260421T210000
DTSTAMP:20260421T015645
CREATED:20260420T145422Z
LAST-MODIFIED:20260420T145422Z
UID:20527-1776799800-1776805200@trombone.net
SUMMARY:Augustana College Low Brass Ensemble Concert
DESCRIPTION:The Augustana Low Brass Ensemble\, directed by Xiaoyu Liu\, will perform. \n\n\n\n\n\n\n\nRock Island\, IL
URL:https://trombone.net/event/augustana-college-low-brass-ensemble-concert/
ATTACH;FMTTYPE=image/png:https://trombone.net/wp-content/uploads/2026/04/Logo-for-Augustana-College.png
END:VEVENT
BEGIN:VEVENT
DTSTART;TZID=America/New_York:20260421T200000
DTEND;TZID=America/New_York:20260421T213000
DTSTAMP:20260421T015645
CREATED:20260401T200705Z
LAST-MODIFIED:20260420T123941Z
UID:20299-1776801600-1776807000@trombone.net
SUMMARY:Aiden Drysdale\, chamber trombone
DESCRIPTION:University of Michigan Master’s degree student Aiden Drysdale performs in a chamber music recital. \n\n\n\nFree
URL:https://trombone.net/event/aiden-drysdale-chamber-trombone/
ATTACH;FMTTYPE=image/jpeg:https://trombone.net/wp-content/uploads/2026/04/UMich-stage.jpg
END:VEVENT
END:VCALENDAR