BEGIN:VCALENDAR
VERSION:2.0
PRODID:-//International Trombone Association - ECPv6.15.17.1//NONSGML v1.0//EN
CALSCALE:GREGORIAN
METHOD:PUBLISH
X-WR-CALNAME:International Trombone Association
X-ORIGINAL-URL:https://trombone.net
X-WR-CALDESC:Events for International Trombone Association
REFRESH-INTERVAL;VALUE=DURATION:PT1H
X-Robots-Tag:noindex
X-PUBLISHED-TTL:PT1H
BEGIN:VTIMEZONE
TZID:America/New_York
BEGIN:DAYLIGHT
TZOFFSETFROM:-0500
TZOFFSETTO:-0400
TZNAME:EDT
DTSTART:20250309T070000
END:DAYLIGHT
BEGIN:STANDARD
TZOFFSETFROM:-0400
TZOFFSETTO:-0500
TZNAME:EST
DTSTART:20251102T060000
END:STANDARD
BEGIN:DAYLIGHT
TZOFFSETFROM:-0500
TZOFFSETTO:-0400
TZNAME:EDT
DTSTART:20260308T070000
END:DAYLIGHT
BEGIN:STANDARD
TZOFFSETFROM:-0400
TZOFFSETTO:-0500
TZNAME:EST
DTSTART:20261101T060000
END:STANDARD
BEGIN:DAYLIGHT
TZOFFSETFROM:-0500
TZOFFSETTO:-0400
TZNAME:EDT
DTSTART:20270314T070000
END:DAYLIGHT
BEGIN:STANDARD
TZOFFSETFROM:-0400
TZOFFSETTO:-0500
TZNAME:EST
DTSTART:20271107T060000
END:STANDARD
END:VTIMEZONE
BEGIN:VEVENT
DTSTART;TZID=America/New_York:20260424T093000
DTEND;TZID=America/New_York:20260424T110000
DTSTAMP:20260424T015515
CREATED:20260420T150306Z
LAST-MODIFIED:20260420T150307Z
UID:20533-1777023000-1777028400@trombone.net
SUMMARY:Cleveland Institute of Music Trombone Recital
DESCRIPTION:Shiv Love\, trombone. Second Master of Music Recital. Elizabeth DeMio\, collaborative piano  \n\n\n\n\n\n\n\nLivestream available \n\n\n\nFree — No Tickets or Seating Passes Required \n\n\n\nCleveland Institute of Music in Cleveland\, OH
URL:https://trombone.net/event/cleveland-institute-of-music-trombone-recital/
ATTACH;FMTTYPE=image/png:https://trombone.net/wp-content/uploads/2026/04/Logo-for-Cleveland-Institute-of-Music.png
END:VEVENT
END:VCALENDAR