BEGIN:VCALENDAR
VERSION:2.0
PRODID:-//International Trombone Association - ECPv6.15.17.1//NONSGML v1.0//EN
CALSCALE:GREGORIAN
METHOD:PUBLISH
X-ORIGINAL-URL:https://trombone.net
X-WR-CALDESC:Events for International Trombone Association
REFRESH-INTERVAL;VALUE=DURATION:PT1H
X-Robots-Tag:noindex
X-PUBLISHED-TTL:PT1H
BEGIN:VTIMEZONE
TZID:America/Los_Angeles
BEGIN:DAYLIGHT
TZOFFSETFROM:-0800
TZOFFSETTO:-0700
TZNAME:PDT
DTSTART:20250309T100000
END:DAYLIGHT
BEGIN:STANDARD
TZOFFSETFROM:-0700
TZOFFSETTO:-0800
TZNAME:PST
DTSTART:20251102T090000
END:STANDARD
BEGIN:DAYLIGHT
TZOFFSETFROM:-0800
TZOFFSETTO:-0700
TZNAME:PDT
DTSTART:20260308T100000
END:DAYLIGHT
BEGIN:STANDARD
TZOFFSETFROM:-0700
TZOFFSETTO:-0800
TZNAME:PST
DTSTART:20261101T090000
END:STANDARD
BEGIN:DAYLIGHT
TZOFFSETFROM:-0800
TZOFFSETTO:-0700
TZNAME:PDT
DTSTART:20270314T100000
END:DAYLIGHT
BEGIN:STANDARD
TZOFFSETFROM:-0700
TZOFFSETTO:-0800
TZNAME:PST
DTSTART:20271107T090000
END:STANDARD
END:VTIMEZONE
BEGIN:VTIMEZONE
TZID:America/New_York
BEGIN:DAYLIGHT
TZOFFSETFROM:-0500
TZOFFSETTO:-0400
TZNAME:EDT
DTSTART:20250309T070000
END:DAYLIGHT
BEGIN:STANDARD
TZOFFSETFROM:-0400
TZOFFSETTO:-0500
TZNAME:EST
DTSTART:20251102T060000
END:STANDARD
BEGIN:DAYLIGHT
TZOFFSETFROM:-0500
TZOFFSETTO:-0400
TZNAME:EDT
DTSTART:20260308T070000
END:DAYLIGHT
BEGIN:STANDARD
TZOFFSETFROM:-0400
TZOFFSETTO:-0500
TZNAME:EST
DTSTART:20261101T060000
END:STANDARD
BEGIN:DAYLIGHT
TZOFFSETFROM:-0500
TZOFFSETTO:-0400
TZNAME:EDT
DTSTART:20270314T070000
END:DAYLIGHT
BEGIN:STANDARD
TZOFFSETFROM:-0400
TZOFFSETTO:-0500
TZNAME:EST
DTSTART:20271107T060000
END:STANDARD
END:VTIMEZONE
BEGIN:VTIMEZONE
TZID:Europe/London
BEGIN:DAYLIGHT
TZOFFSETFROM:+0000
TZOFFSETTO:+0100
TZNAME:BST
DTSTART:20250330T010000
END:DAYLIGHT
BEGIN:STANDARD
TZOFFSETFROM:+0100
TZOFFSETTO:+0000
TZNAME:GMT
DTSTART:20251026T010000
END:STANDARD
BEGIN:DAYLIGHT
TZOFFSETFROM:+0000
TZOFFSETTO:+0100
TZNAME:BST
DTSTART:20260329T010000
END:DAYLIGHT
BEGIN:STANDARD
TZOFFSETFROM:+0100
TZOFFSETTO:+0000
TZNAME:GMT
DTSTART:20261025T010000
END:STANDARD
BEGIN:DAYLIGHT
TZOFFSETFROM:+0000
TZOFFSETTO:+0100
TZNAME:BST
DTSTART:20270328T010000
END:DAYLIGHT
BEGIN:STANDARD
TZOFFSETFROM:+0100
TZOFFSETTO:+0000
TZNAME:GMT
DTSTART:20271031T010000
END:STANDARD
END:VTIMEZONE
BEGIN:VEVENT
DTSTART;TZID=America/Los_Angeles:20260201T140000
DTEND;TZID=America/Los_Angeles:20260201T160000
DTSTAMP:20260422T132250
CREATED:20260123T140932Z
LAST-MODIFIED:20260123T143838Z
UID:19707-1769954400-1769961600@trombone.net
SUMMARY:World Premiere LIVE! - Echo into the Void and Back to the Light for Contrabass Trombone & Piano
DESCRIPTION:Please come down to the Oregon Coast and enjoy the World Premiere of Nicole Buetti’s Echo Into the Void and Back the Light for Contrabass Trombone and Piano. \n\n\n\nThis performance is part of the “Spotlight On the Teachers” benefit concerts that raise funds for students in Lincoln County to afford lessons and grow as musicians. \n\n\n\nAdmission will be by donation.
URL:https://trombone.net/event/world-premiere-live-echo-into-the-void-and-back-to-the-light-for-contrabass-trombone-piano/
LOCATION:Newport Performing Arts Center\, 777 W Olive St\, Newport\, Oregon\, 97365\, United States
ATTACH;FMTTYPE=image/jpeg:https://trombone.net/wp-content/uploads/2026/01/Echo.jpg
END:VEVENT
BEGIN:VEVENT
DTSTART;TZID=America/New_York:20260208T100000
DTEND;TZID=America/New_York:20260208T183000
DTSTAMP:20260422T132250
CREATED:20260129T134930Z
LAST-MODIFIED:20260129T134930Z
UID:19764-1770544800-1770575400@trombone.net
SUMMARY:Bowling Green State University Trombone Day
DESCRIPTION:BGSU Trombone Day will be held February 8th\, 2026 featuring the Inter-Service Trombone Quartet\, members of the premiere United States military bands. In addition to these guest artists\, special guests Lake Effect Trombone Choir will also be performing. The event will include fundamental sessions\, recitals\, masterclasses\, mass trombone choir rehearsal and performances\, exhibitors\, and more! Lunch is provided with registration. Email Dr. Jeremy Marks\, Assistant Professor of Trombone with any questions: jamarks@bgsu.edu. \n\n\n\nPlease note that registration will only be available online. Registration closes Wednesday\, February 4\, 2026. The $20 registration fee includes access to all activities for the day. Lunch will be provided.
URL:https://trombone.net/event/bowling-green-state-university-trombone-day/
LOCATION:Moore Musical Arts Center\, Moore Musical Arts Center\, 1031\, 420 Willard Dr\, Bowling Green\, Ohio\, 43403\, United States
ATTACH;FMTTYPE=image/jpeg:https://trombone.net/wp-content/uploads/2026/01/BGSU.jpg
END:VEVENT
BEGIN:VEVENT
DTSTART;TZID=Europe/London:20260220T131500
DTEND;TZID=Europe/London:20260220T160000
DTSTAMP:20260422T132250
CREATED:20260123T143356Z
LAST-MODIFIED:20260123T143600Z
UID:19730-1771593300-1771603200@trombone.net
SUMMARY:Dallas Symphony Trombone Quartet Concert and Workshop
DESCRIPTION:The trombone quartet from the Dallas Symphony Orchestra will be visiting Belfast on Friday\, February 20th. As part of their educational tour of Ireland\, they will perform a concert and host a masterclass at the Harty Room in Queens University. \n\n\n\nThis is an exceptional opportunity for all brass players in Northern Ireland to experience world-class chamber music and exceptional trombone playing. Should you have any inquiries or express interest in participating in the masterclass\, please contact me at NathanMooreNI@gmail.com \n\n\n\nFormed from the low brass section of the Dallas Symphony Orchestra\, the Dallas Symphony Trombone Quartet brings the power\, precision\, and artistry of the concert stage to an intimate chamber music setting. Comprising Barry Hearn\, Chris Oliver\, Brian Hecht\, and Darren McHenry\, the ensemble showcases the versatility of the trombone through an exciting mix of classical favorites\, jazz standards\, new music\, and original arrangements. \n\n\n\nIn addition to their concert appearances\, the Dallas Symphony Trombone Quartet is dedicated to music education and community engagement\, regularly performing outreach concerts\, masterclasses\, and educational workshops across North Texas. \n\n\n\nWhether performing in the Meyerson Symphony Center\, at schools and community events\, or on tour\, the Dallas Symphony Trombone Quartet connects with audiences of all ages through their humor and love for great music
URL:https://trombone.net/event/dallas-symphony-trombone-quartet/
LOCATION:Harty Room\, Queen’s University Belfast\, University Rd\, Belfast\, BT7 1NN\, United Kingdom
ATTACH;FMTTYPE=image/jpeg:https://trombone.net/wp-content/uploads/2026/01/616209471_1403426911474614_8241590085417773838_n.jpg
END:VEVENT
BEGIN:VEVENT
DTSTART;TZID=Europe/London:20260226T193000
DTEND;TZID=Europe/London:20260226T210000
DTSTAMP:20260422T132250
CREATED:20260129T140240Z
LAST-MODIFIED:20260129T140601Z
UID:19781-1772134200-1772139600@trombone.net
SUMMARY:Richard Edwards Memorial Concert at The Guards' Chapel
DESCRIPTION:Join the trombones of the Household Division alongside London Brass and the Royal College of Music for an evening of music and stories as they pay tribute to former Irish Guards musician\, and world renowned trombone player Richard Edwards. \n\n\n\nFrom his beginnings at the Royal Military School of Music\, Kneller Hall\, and winning all available trophies at the time\, Richard went on to have an incredible versatile career. \n\n\n\nWhether it was the house band “upstairs” at Ronnie Scott’s\, touring the world with funk fusion group Working Week or Carla Bley\, sat on stage with the London Symphony Orchestra\, or in the recording studio for hundreds of soundtracks not limited to the likes of Harry Potter\, Lord of the Rings\, James Bond\, or maybe you’ll have heard him on albums for Sting\, Amy Winehouse and Joni Mitchell\, Richard’s musicianship\, skill and versatility on the trombone was second to none. \n\n\n\nThe concert is FREE to attend with a retiring collection at the end.
URL:https://trombone.net/event/richard-edwards-memorial-concert-at-the-guards-chapel/
LOCATION:The Guards’ Chapel\, The Royal Military Chapel\, The Guards Chapel\, London\, SW1A 2AX\, United Kingdom
ATTACH;FMTTYPE=image/jpeg:https://trombone.net/wp-content/uploads/2026/01/Rich.jpg
END:VEVENT
BEGIN:VEVENT
DTSTART;TZID=America/New_York:20260228T090000
DTEND;TZID=America/New_York:20260228T160000
DTSTAMP:20260422T132250
CREATED:20260129T140939Z
LAST-MODIFIED:20260227T222510Z
UID:19789-1772269200-1772294400@trombone.net
SUMMARY:Tennessee Tech: Trombone Day
DESCRIPTION:This year’s guests include  \n\n\n\n\n\n\n\nRocket City Bones\, Bone Therapy\, Nikki Abissi\, Colin Williams\, Yu Tamaka\, and Chris Bassett.
URL:https://trombone.net/event/tennessee-tech-trombone-day/
LOCATION:Tennessee Tech – Bryan Fine Arts Building\, 1150 N Dixie Ave\, Cookeville\, Tennessee\, 38501\, United States
CATEGORIES:Trombone Day,Trombone Week
ATTACH;FMTTYPE=image/jpeg:https://trombone.net/wp-content/uploads/2026/01/ttech.jpg
END:VEVENT
END:VCALENDAR